BEGIN:VCALENDAR
VERSION:2.0
PRODID:-//Marco Island Chamber - ECPv6.15.18//NONSGML v1.0//EN
CALSCALE:GREGORIAN
METHOD:PUBLISH
X-WR-CALNAME:Marco Island Chamber
X-ORIGINAL-URL:https://marcoislandchamber.org
X-WR-CALDESC:Events for Marco Island Chamber
REFRESH-INTERVAL;VALUE=DURATION:PT1H
X-Robots-Tag:noindex
X-PUBLISHED-TTL:PT1H
BEGIN:VTIMEZONE
TZID:America/New_York
BEGIN:DAYLIGHT
TZOFFSETFROM:-0500
TZOFFSETTO:-0400
TZNAME:EDT
DTSTART:20190310T070000
END:DAYLIGHT
BEGIN:STANDARD
TZOFFSETFROM:-0400
TZOFFSETTO:-0500
TZNAME:EST
DTSTART:20191103T060000
END:STANDARD
BEGIN:DAYLIGHT
TZOFFSETFROM:-0500
TZOFFSETTO:-0400
TZNAME:EDT
DTSTART:20200308T070000
END:DAYLIGHT
BEGIN:STANDARD
TZOFFSETFROM:-0400
TZOFFSETTO:-0500
TZNAME:EST
DTSTART:20201101T060000
END:STANDARD
BEGIN:DAYLIGHT
TZOFFSETFROM:-0500
TZOFFSETTO:-0400
TZNAME:EDT
DTSTART:20210314T070000
END:DAYLIGHT
BEGIN:STANDARD
TZOFFSETFROM:-0400
TZOFFSETTO:-0500
TZNAME:EST
DTSTART:20211107T060000
END:STANDARD
END:VTIMEZONE
BEGIN:VEVENT
DTSTART;TZID=America/New_York:20200319T100000
DTEND;TZID=America/New_York:20200319T160000
DTSTAMP:20260419T213544
CREATED:20191028T105128Z
LAST-MODIFIED:20191028T105128Z
UID:3142-1584612000-1584633600@marcoislandchamber.org
SUMMARY:40th Marco Island Shell Show
DESCRIPTION:United Church of Marco\, 320 N. Barfield Dr.
URL:https://marcoislandchamber.org/marco-event/40th-marco-island-shell-show/2020-03-19/
CATEGORIES:Member Events
END:VEVENT
END:VCALENDAR