BEGIN:VCALENDAR
VERSION:2.0
PRODID:-//Marco Island Chamber - ECPv6.15.18//NONSGML v1.0//EN
CALSCALE:GREGORIAN
METHOD:PUBLISH
X-WR-CALNAME:Marco Island Chamber
X-ORIGINAL-URL:https://marcoislandchamber.org
X-WR-CALDESC:Events for Marco Island Chamber
REFRESH-INTERVAL;VALUE=DURATION:PT1H
X-Robots-Tag:noindex
X-PUBLISHED-TTL:PT1H
BEGIN:VTIMEZONE
TZID:UTC
BEGIN:STANDARD
TZOFFSETFROM:+0000
TZOFFSETTO:+0000
TZNAME:UTC
DTSTART:20250101T000000
END:STANDARD
END:VTIMEZONE
BEGIN:VEVENT
DTSTART;TZID=UTC:20260422T110000
DTEND;TZID=UTC:20260422T170000
DTSTAMP:20260422T032552
CREATED:20260406T141331Z
LAST-MODIFIED:20260406T141331Z
UID:13631-1776855600-1776877200@marcoislandchamber.org
SUMMARY:5th Annual Island Wide Earth Day Clean Up
DESCRIPTION:Hosted by the YMA.  For more information contact Rene Ford\, gamesford16@gmail.com\, 914-552-5547.
URL:https://marcoislandchamber.org/marco-event/5th-annual-island-wide-earth-day-clean-up/
CATEGORIES:Member Events
END:VEVENT
END:VCALENDAR