BEGIN:VCALENDAR
VERSION:2.0
PRODID:-//Marco Island Chamber - ECPv6.15.18//NONSGML v1.0//EN
CALSCALE:GREGORIAN
METHOD:PUBLISH
X-WR-CALNAME:Marco Island Chamber
X-ORIGINAL-URL:https://marcoislandchamber.org
X-WR-CALDESC:Events for Marco Island Chamber
REFRESH-INTERVAL;VALUE=DURATION:PT1H
X-Robots-Tag:noindex
X-PUBLISHED-TTL:PT1H
BEGIN:VTIMEZONE
TZID:America/New_York
BEGIN:DAYLIGHT
TZOFFSETFROM:-0500
TZOFFSETTO:-0400
TZNAME:EDT
DTSTART:20210314T070000
END:DAYLIGHT
BEGIN:STANDARD
TZOFFSETFROM:-0400
TZOFFSETTO:-0500
TZNAME:EST
DTSTART:20211107T060000
END:STANDARD
BEGIN:DAYLIGHT
TZOFFSETFROM:-0500
TZOFFSETTO:-0400
TZNAME:EDT
DTSTART:20220313T070000
END:DAYLIGHT
BEGIN:STANDARD
TZOFFSETFROM:-0400
TZOFFSETTO:-0500
TZNAME:EST
DTSTART:20221106T060000
END:STANDARD
BEGIN:DAYLIGHT
TZOFFSETFROM:-0500
TZOFFSETTO:-0400
TZNAME:EDT
DTSTART:20230312T070000
END:DAYLIGHT
BEGIN:STANDARD
TZOFFSETFROM:-0400
TZOFFSETTO:-0500
TZNAME:EST
DTSTART:20231105T060000
END:STANDARD
END:VTIMEZONE
BEGIN:VEVENT
DTSTART;TZID=America/New_York:20220129T080000
DTEND;TZID=America/New_York:20220129T100000
DTSTAMP:20260421T221244
CREATED:20220110T130120Z
LAST-MODIFIED:20220110T130120Z
UID:9065-1643443200-1643450400@marcoislandchamber.org
SUMMARY:Clean Up Our Waters by Boat Event
DESCRIPTION:For more information call Jack Winnik\, 847-652-6525 or Carolyn Charde\, 239-394-5616.
URL:https://marcoislandchamber.org/marco-event/clean-up-our-waters-by-boat-event/
CATEGORIES:City of Marco Island,Member Events
END:VEVENT
END:VCALENDAR