BEGIN:VCALENDAR
VERSION:2.0
PRODID:-//Marco Island Chamber - ECPv6.15.18//NONSGML v1.0//EN
CALSCALE:GREGORIAN
METHOD:PUBLISH
X-WR-CALNAME:Marco Island Chamber
X-ORIGINAL-URL:https://marcoislandchamber.org
X-WR-CALDESC:Events for Marco Island Chamber
REFRESH-INTERVAL;VALUE=DURATION:PT1H
X-Robots-Tag:noindex
X-PUBLISHED-TTL:PT1H
BEGIN:VTIMEZONE
TZID:America/New_York
BEGIN:DAYLIGHT
TZOFFSETFROM:-0500
TZOFFSETTO:-0400
TZNAME:EDT
DTSTART:20180311T070000
END:DAYLIGHT
BEGIN:STANDARD
TZOFFSETFROM:-0400
TZOFFSETTO:-0500
TZNAME:EST
DTSTART:20181104T060000
END:STANDARD
BEGIN:DAYLIGHT
TZOFFSETFROM:-0500
TZOFFSETTO:-0400
TZNAME:EDT
DTSTART:20190310T070000
END:DAYLIGHT
BEGIN:STANDARD
TZOFFSETFROM:-0400
TZOFFSETTO:-0500
TZNAME:EST
DTSTART:20191103T060000
END:STANDARD
BEGIN:DAYLIGHT
TZOFFSETFROM:-0500
TZOFFSETTO:-0400
TZNAME:EDT
DTSTART:20200308T070000
END:DAYLIGHT
BEGIN:STANDARD
TZOFFSETFROM:-0400
TZOFFSETTO:-0500
TZNAME:EST
DTSTART:20201101T060000
END:STANDARD
BEGIN:DAYLIGHT
TZOFFSETFROM:-0500
TZOFFSETTO:-0400
TZNAME:EDT
DTSTART:20210314T070000
END:DAYLIGHT
BEGIN:STANDARD
TZOFFSETFROM:-0400
TZOFFSETTO:-0500
TZNAME:EST
DTSTART:20211107T060000
END:STANDARD
END:VTIMEZONE
BEGIN:VEVENT
DTSTART;TZID=America/New_York:20191116T090000
DTEND;TZID=America/New_York:20191116T120000
DTSTAMP:20260420T220900
CREATED:20190924T112124Z
LAST-MODIFIED:20190924T112124Z
UID:2800-1573894800-1573905600@marcoislandchamber.org
SUMMARY:Shred Event at Iberiabank
DESCRIPTION:605 Bald Eagle Dr.\, Marco Island.  Gather your outdated bank statements\, checks\, contracts\, legal agreements\, bills and more to have them securely shredded.  A voluntary $3.00 per box donation will be collected for Our Daily Bread Food Pantry.  Limit 10 boxes.  For more information call 239-393-2400.
URL:https://marcoislandchamber.org/marco-event/shred-event-at-iberiabank/
CATEGORIES:Member Events
END:VEVENT
BEGIN:VEVENT
DTSTART;TZID=America/New_York:20191116T090000
DTEND;TZID=America/New_York:20191116T170000
DTSTAMP:20260420T220900
CREATED:20190829T113544Z
LAST-MODIFIED:20190829T113544Z
UID:1692-1573894800-1573923600@marcoislandchamber.org
SUMMARY:CIS Marco Island Florist Holiday Open House and Ornament Display and Sale
DESCRIPTION:For additional information call 239-394-8141.
URL:https://marcoislandchamber.org/marco-event/cis-marco-island-florist-holiday-open-house-and-ornament-display-and-sale/
CATEGORIES:Member Events
END:VEVENT
BEGIN:VEVENT
DTSTART;TZID=America/New_York:20191116T100000
DTEND;TZID=America/New_York:20191116T160000
DTSTAMP:20260420T220900
CREATED:20191112T102627Z
LAST-MODIFIED:20191112T102627Z
UID:3232-1573898400-1573920000@marcoislandchamber.org
SUMMARY:Tenth Annual Holiday Bazaar at the Goodland Civic Association
DESCRIPTION:Located in the Historic Fishing Village of Goodland\, Margood Harbor Park\, Pear Tree Avenue.  For more information\, call 239-394-5663.
URL:https://marcoislandchamber.org/marco-event/tenth-annual-holiday-bazaar-at-the-goodland-civic-association/2019-11-16/
CATEGORIES:Member Events
END:VEVENT
BEGIN:VEVENT
DTSTART;TZID=America/New_York:20191128T080000
DTEND;TZID=America/New_York:20191128T210000
DTSTAMP:20260420T220900
CREATED:20191031T144253Z
LAST-MODIFIED:20191031T144253Z
UID:3167-1574928000-1574974800@marcoislandchamber.org
SUMMARY:Restaurants open on Thanksgiving Day
DESCRIPTION:Hilton Marco Island Beach Resort & Spa – Thanksgiving Brunch – 12:00 pm – 6:00 pm – 239-394-5000 \nSale e Pepe – Elegant\, Italian-Inspired Celebration – 2:00 pm – 9:00 pm – 239-393-1600 \nCapri Fish House Restaurant – 12:00 pm – 7:00 pm – 239-389-5555 \n 
URL:https://marcoislandchamber.org/marco-event/restaurants-open-on-thanksgiving-day/
CATEGORIES:Member Events
END:VEVENT
BEGIN:VEVENT
DTSTART;TZID=America/New_York:20191203T090000
DTEND;TZID=America/New_York:20191203T160000
DTSTAMP:20260420T220900
CREATED:20191008T150015Z
LAST-MODIFIED:20191008T150015Z
UID:2963-1575363600-1575388800@marcoislandchamber.org
SUMMARY:Festival of Trees Hosted by Marco Island Center for the Arts
DESCRIPTION:1010 Winterberry Dr.  For additional information call 239-394-4221.
URL:https://marcoislandchamber.org/marco-event/festival-of-trees-hosted-by-marco-island-center-for-the-arts/2019-12-03/
CATEGORIES:Member Events
END:VEVENT
BEGIN:VEVENT
DTSTART;TZID=America/New_York:20191204T180000
DTEND;TZID=America/New_York:20191204T200000
DTSTAMP:20260420T220900
CREATED:20191031T143837Z
LAST-MODIFIED:20191031T143837Z
UID:3163-1575482400-1575489600@marcoislandchamber.org
SUMMARY:Celtic Angels Christmas Presented by Sons & Daughters of Erin
DESCRIPTION:For more information\, call Kathleen at 239-404-6733.
URL:https://marcoislandchamber.org/marco-event/celtic-angels-christmas-presented-by-sons-daughters-of-erin/
CATEGORIES:Member Events
END:VEVENT
BEGIN:VEVENT
DTSTART;TZID=America/New_York:20191206T170000
DTEND;TZID=America/New_York:20191206T190000
DTSTAMP:20260420T220900
CREATED:20190919T141347Z
LAST-MODIFIED:20190919T141347Z
UID:2748-1575651600-1575658800@marcoislandchamber.org
SUMMARY:First Fridays at Local Color Art Gallery
DESCRIPTION:160 Royal Palm Dr.  For more information\, call Clark at 239-394-2787.
URL:https://marcoislandchamber.org/marco-event/first-fridays-at-local-color-art-gallery-3/
CATEGORIES:Member Events
END:VEVENT
BEGIN:VEVENT
DTSTART;TZID=America/New_York:20191207T080000
DTEND;TZID=America/New_York:20191207T230000
DTSTAMP:20260420T220900
CREATED:20190923T120131Z
LAST-MODIFIED:20190923T120131Z
UID:2778-1575705600-1575759600@marcoislandchamber.org
SUMMARY:Quarterly Beach Clean Up - Tigertail Beach
DESCRIPTION:Friends of Tigertail Beach Clean Up at Tigertail Beach
URL:https://marcoislandchamber.org/marco-event/quarterly-beach-clean-up-tigertail-beach/
CATEGORIES:Events,Member Events
END:VEVENT
BEGIN:VEVENT
DTSTART;TZID=America/New_York:20191207T090000
DTEND;TZID=America/New_York:20191207T140000
DTSTAMP:20260420T220900
CREATED:20191028T104942Z
LAST-MODIFIED:20191028T104942Z
UID:3139-1575709200-1575727200@marcoislandchamber.org
SUMMARY:Shell Club Holiday Sale
DESCRIPTION:United Church of Marco Disseler Hall\, 320 N. Barfield.
URL:https://marcoislandchamber.org/marco-event/shell-club-holiday-sale/
CATEGORIES:Member Events
END:VEVENT
BEGIN:VEVENT
DTSTART;TZID=America/New_York:20191213T150000
DTEND;TZID=America/New_York:20191213T160000
DTSTAMP:20260420T220900
CREATED:20191008T150203Z
LAST-MODIFIED:20191008T150203Z
UID:2968-1576249200-1576252800@marcoislandchamber.org
SUMMARY:White Christmas Tea with Jacquelyn Pierce Presented by the Marco Island Center for the Arts
DESCRIPTION:1010 Winterberry Dr.  For additional information call 239-394-4221.
URL:https://marcoislandchamber.org/marco-event/white-christmas-tea-with-jacquelyn-pierce-presented-by-the-marco-island-center-for-the-arts/
CATEGORIES:Member Events
END:VEVENT
BEGIN:VEVENT
DTSTART;TZID=America/New_York:20191215T150000
DTEND;TZID=America/New_York:20191215T170000
DTSTAMP:20260420T220900
CREATED:20191206T102624Z
LAST-MODIFIED:20191206T102624Z
UID:3419-1576422000-1576429200@marcoislandchamber.org
SUMMARY:Marco Island Community Chorus Presents "Morning Star" by Lloyd Larson
DESCRIPTION:San Marco Catholic Church\, 851 San Marco Rd.\, Marco Island\, FL.  For additional information please contact San Marco Catholic Church\, 239-394-5181.
URL:https://marcoislandchamber.org/marco-event/marco-island-community-chorus-presents-morning-star-by-lloyd-larson/
CATEGORIES:Member Events
END:VEVENT
BEGIN:VEVENT
DTSTART;TZID=America/New_York:20191223T073000
DTEND;TZID=America/New_York:20191223T130000
DTSTAMP:20260420T220900
CREATED:20191016T134018Z
LAST-MODIFIED:20191016T134018Z
UID:3061-1577086200-1577106000@marcoislandchamber.org
SUMMARY:Marco Island Farmer's Market
DESCRIPTION:Veterans’ Community Park\, 901 Park Avenue.  For more information call 239-642-0575 or visit www.cityofmarcoisland.com.
URL:https://marcoislandchamber.org/marco-event/marco-island-farmers-market-2019-12-25/
CATEGORIES:Member Events
END:VEVENT
BEGIN:VEVENT
DTSTART;TZID=America/New_York:20191224T080000
DTEND;TZID=America/New_York:20191224T170000
DTSTAMP:20260420T220900
CREATED:20191218T140340Z
LAST-MODIFIED:20191218T140340Z
UID:3467-1577174400-1577206800@marcoislandchamber.org
SUMMARY:Restaurants open on Christmas Eve
DESCRIPTION:Sale e Pepe – Elegant Buffet Dinner – 5:00 pm – 9:00 pm – 239-393-1600 or visit Sale-E-Pepe.com
URL:https://marcoislandchamber.org/marco-event/restaurants-open-on-christmas-eve/
CATEGORIES:Member Events
END:VEVENT
BEGIN:VEVENT
DTSTART;TZID=America/New_York:20191225T080000
DTEND;TZID=America/New_York:20191225T170000
DTSTAMP:20260420T220900
CREATED:20191206T104347Z
LAST-MODIFIED:20191206T104347Z
UID:3425-1577260800-1577293200@marcoislandchamber.org
SUMMARY:Restaurants open on Christmas Day
DESCRIPTION:Hilton – Christmas Buffet – 12:00 – 3:00 pm and 5:00 – 9:00 pm – 239-394-5000\nSale e Pepe – Elegant Buffet Dinner – 5:00 pm – 9:00 pm – 239-393-1600 or visit Sale-E-Pepe.com
URL:https://marcoislandchamber.org/marco-event/restaurants-open-on-christmas-day/
CATEGORIES:Member Events
END:VEVENT
BEGIN:VEVENT
DTSTART;TZID=America/New_York:20191228T140000
DTEND;TZID=America/New_York:20191228T150000
DTSTAMP:20260420T220900
CREATED:20191217T094759Z
LAST-MODIFIED:20191217T094759Z
UID:3447-1577541600-1577545200@marcoislandchamber.org
SUMMARY:Mr. Mike & the Big Red Box of Magic
DESCRIPTION:Hosted by the Marco Island Center for the Arts\, 1010 Winterberry Dr.  Children’s Magic Show – ages 4 – 10.  Price $10/  Sign up today by calling 239-394-4221 or online at www.marcoislandart.org.
URL:https://marcoislandchamber.org/marco-event/mr-mike-the-big-red-box-of-magic/
CATEGORIES:Member Events
END:VEVENT
BEGIN:VEVENT
DTSTART;TZID=America/New_York:20191228T174500
DTEND;TZID=America/New_York:20191228T210000
DTSTAMP:20260420T220900
CREATED:20191206T102302Z
LAST-MODIFIED:20191206T102302Z
UID:3416-1577555100-1577566800@marcoislandchamber.org
SUMMARY:11th Annual Marco Island Community Chanukah Celebration
DESCRIPTION:Jewish Congregation of Marco Island\, 991 Winterberry Dr.\, Marco Island\, FL  34145.  For more information call 239-642-0800.
URL:https://marcoislandchamber.org/marco-event/11th-annual-marco-island-community-chanukah-celebration/
CATEGORIES:Member Events
END:VEVENT
BEGIN:VEVENT
DTSTART;TZID=America/New_York:20191230T073000
DTEND;TZID=America/New_York:20191230T130000
DTSTAMP:20260420T220900
CREATED:20191016T134018Z
LAST-MODIFIED:20191016T134018Z
UID:3062-1577691000-1577710800@marcoislandchamber.org
SUMMARY:Marco Island Farmer's Market
DESCRIPTION:Veterans’ Community Park\, 901 Park Avenue.  For more information call 239-642-0575 or visit www.cityofmarcoisland.com.
URL:https://marcoislandchamber.org/marco-event/marco-island-farmers-market-2020-01-01/
CATEGORIES:Member Events
END:VEVENT
BEGIN:VEVENT
DTSTART;TZID=America/New_York:20191231T080000
DTEND;TZID=America/New_York:20191231T170000
DTSTAMP:20260420T220900
CREATED:20191217T094359Z
LAST-MODIFIED:20191217T094359Z
UID:3444-1577779200-1577811600@marcoislandchamber.org
SUMMARY:New Years Eve Celebrations
DESCRIPTION:Hilton Marco Island Beach Resort & Spa – Five-Course Prix Fixe Menu – 5 pm – 1 am – 239-394-5000\nSale e Pepe – Four-Course Prix Fixe Dinner – 5 pm – 9 pm – 239-393-1600 or visit Sale-E-Pepe.com \n 
URL:https://marcoislandchamber.org/marco-event/new-years-eve-celebrations/
CATEGORIES:Member Events
END:VEVENT
BEGIN:VEVENT
DTSTART;TZID=America/New_York:20200102T190000
DTEND;TZID=America/New_York:20200102T200000
DTSTAMP:20260420T220900
CREATED:20191008T120618Z
LAST-MODIFIED:20191008T120618Z
UID:2881-1577991600-1577995200@marcoislandchamber.org
SUMMARY:Bingo at San Marco Catholic Church
DESCRIPTION:Hosted by the San Marco Knights of Columbus.  For more information call 239-389-5633 or visit the website at www.marcoknights.com.
URL:https://marcoislandchamber.org/marco-event/bingo-at-san-marco-catholic-church-2/2020-01-02/
CATEGORIES:Member Events
END:VEVENT
BEGIN:VEVENT
DTSTART;TZID=America/New_York:20200103T100000
DTEND;TZID=America/New_York:20200103T160000
DTSTAMP:20260420T220900
CREATED:20191008T150556Z
LAST-MODIFIED:20191008T150556Z
UID:2974-1578045600-1578067200@marcoislandchamber.org
SUMMARY:Art/Craft Show
DESCRIPTION:Marco Island Center for the Arts\, 1010 Winterberry Dr.  For additional information call 239-394-4221.
URL:https://marcoislandchamber.org/marco-event/art-craft-show/2020-01-03/
CATEGORIES:Member Events
END:VEVENT
BEGIN:VEVENT
DTSTART;TZID=America/New_York:20200103T170000
DTEND;TZID=America/New_York:20200103T190000
DTSTAMP:20260420T220900
CREATED:20190919T141431Z
LAST-MODIFIED:20190919T141431Z
UID:2750-1578070800-1578078000@marcoislandchamber.org
SUMMARY:First Fridays at Local Color Art Gallery
DESCRIPTION:160 Royal Palm Dr.  For more information\, call Clark at 239-394-2787.
URL:https://marcoislandchamber.org/marco-event/2750/
CATEGORIES:Member Events
END:VEVENT
BEGIN:VEVENT
DTSTART;TZID=America/New_York:20200109T150000
DTEND;TZID=America/New_York:20200109T180000
DTSTAMP:20260420T220900
CREATED:20190829T114649Z
LAST-MODIFIED:20190829T114649Z
UID:1699-1578582000-1578592800@marcoislandchamber.org
SUMMARY:MIHM "National Association of Women Artist's FL Chapter Panel Discussion"
DESCRIPTION:Followed by Reception/Award Presentation.  180 S. Heathwood\, Marco Island.  For more information call 239-252-1440.  Event is free.
URL:https://marcoislandchamber.org/marco-event/mihm-national-association-of-women-artists-fl-chapter-panel-discussion/
CATEGORIES:Member Events
END:VEVENT
BEGIN:VEVENT
DTSTART;TZID=America/New_York:20200111T080000
DTEND;TZID=America/New_York:20200111T100000
DTSTAMP:20260420T220900
CREATED:20200107T111428Z
LAST-MODIFIED:20200107T111428Z
UID:3509-1578729600-1578736800@marcoislandchamber.org
SUMMARY:Beach Clean-up at South Beach
DESCRIPTION:Beach clean -up with Marco Island Academy Key Club.   For more information call Ruth at 239-642-7778.
URL:https://marcoislandchamber.org/marco-event/beach-clean-up-at-south-beach-2/
CATEGORIES:Member Events
END:VEVENT
BEGIN:VEVENT
DTSTART;TZID=America/New_York:20200117T080000
DTEND;TZID=America/New_York:20200117T170000
DTSTAMP:20260420T220900
CREATED:20200107T111900Z
LAST-MODIFIED:20200107T111900Z
UID:3512-1579248000-1579280400@marcoislandchamber.org
SUMMARY:Festival of Birds
DESCRIPTION:Hosted by Friends of Rookery Bay Research Reserve at Rookery Bay\, 300 Tower Rd.  For more information call 239-530-5940 or visit RookeryBay.org.
URL:https://marcoislandchamber.org/marco-event/festival-of-birds/2020-01-17/
CATEGORIES:Member Events
END:VEVENT
BEGIN:VEVENT
DTSTART;TZID=America/New_York:20200118T193000
DTEND;TZID=America/New_York:20200118T210000
DTSTAMP:20260420T220900
CREATED:20200107T093426Z
LAST-MODIFIED:20200107T093426Z
UID:3502-1579375800-1579381200@marcoislandchamber.org
SUMMARY:The 2020 Saul I. Stern Cultural Series - Tim Schwartz & Don Weiser
DESCRIPTION:Presented by The Jewish Congregation of Marco Island\, 991 Winterberry Drive.  From Klezmer to Gershwin.  $20 JCMI Members/$25 Guests.  For more information call 239-642-0800 or visit www.marcojcmi.com.
URL:https://marcoislandchamber.org/marco-event/the-2020-saul-i-stern-cultural-series-tim-schwartz-don-weiser/
CATEGORIES:Member Events
END:VEVENT
BEGIN:VEVENT
DTSTART;TZID=America/New_York:20200120T170000
DTEND;TZID=America/New_York:20200120T183000
DTSTAMP:20260420T220900
CREATED:20200103T095713Z
LAST-MODIFIED:20200103T095713Z
UID:3496-1579539600-1579545000@marcoislandchamber.org
SUMMARY:Key West Express Dockside Hospitality Event
DESCRIPTION:Aboard the Big Cat Express Dockside at Rose Marina in Marco Island .  Light Appetizers Served.  RSVP required:  Call Joanie at 239-314-1205 or email Joanie@keywestexpress.net.
URL:https://marcoislandchamber.org/marco-event/key-west-express-dockside-hospitality-event/
CATEGORIES:Member Events
END:VEVENT
BEGIN:VEVENT
DTSTART;TZID=America/New_York:20200120T170000
DTEND;TZID=America/New_York:20200120T190000
DTSTAMP:20260420T220900
CREATED:20190923T120257Z
LAST-MODIFIED:20190923T120257Z
UID:2781-1579539600-1579546800@marcoislandchamber.org
SUMMARY:New Year Open House - Key West Express
DESCRIPTION:Save for Joanie – Key West Express Open House
URL:https://marcoislandchamber.org/marco-event/new-year-open-house-key-west-express/
CATEGORIES:Events,Member Events
END:VEVENT
BEGIN:VEVENT
DTSTART;TZID=America/New_York:20200121T053000
DTEND;TZID=America/New_York:20200121T190000
DTSTAMP:20260420T220900
CREATED:20191008T150417Z
LAST-MODIFIED:20191008T150417Z
UID:2971-1579584600-1579633200@marcoislandchamber.org
SUMMARY:Ben Rosenblum Jazz Piano Presented by the Marco Island Center for the Arts
DESCRIPTION:1010 Winterberry Dr.  For additional information call 239-394-4221.
URL:https://marcoislandchamber.org/marco-event/ben-rosenblum-jazz-piano-presented-by-the-marco-island-center-for-the-arts/
CATEGORIES:Member Events
END:VEVENT
BEGIN:VEVENT
DTSTART;TZID=America/New_York:20200122T173000
DTEND;TZID=America/New_York:20200122T193000
DTSTAMP:20260420T220900
CREATED:20200114T103100Z
LAST-MODIFIED:20200114T103100Z
UID:3534-1579714200-1579721400@marcoislandchamber.org
SUMMARY:The Republican Club of South Collier County
DESCRIPTION:Featuring guest speaker John Michael Chambers at Hammock Bay Country Club\, 1370 Borghese Lane\, Naples\, FL.  $30/members\, $35 non-members.  To RSVP\, please send payment to:  The Republican Club of South Collier County\, P.O. Box 1173\, Marco Island\, FL  34146.  For credit card payment\, please visit:  RepublicanClub2020.ticketleap.com.  For questions please contact:  Len Schuman –\n917-640-7564 or lenjs@att.net\, or Litha Berger – 954-594-4990 or lithasberger@gmail.com.
URL:https://marcoislandchamber.org/marco-event/the-republican-club-of-south-collier-county-2/
CATEGORIES:Member Events
END:VEVENT
BEGIN:VEVENT
DTSTART;TZID=America/New_York:20200125T140000
DTEND;TZID=America/New_York:20200125T170000
DTSTAMP:20260420T220900
CREATED:20191008T150702Z
LAST-MODIFIED:20191008T150702Z
UID:2978-1579960800-1579971600@marcoislandchamber.org
SUMMARY:Chalk Art
DESCRIPTION:Marco Island Center for the Arts\, 1010 Winterberry Dr.  For additional information call 239-394-4221.
URL:https://marcoislandchamber.org/marco-event/chalk-art/
CATEGORIES:Member Events
END:VEVENT
END:VCALENDAR